BEGIN:VCALENDAR
VERSION:2.0
PRODID:-//https://www.vier-tuerme-verlag.de///NONSGML kigkonsult.se iCalcreator 2.10.15//
METHOD:PUBLISH
BEGIN:VEVENT
UID:20260419T181855CEST-0443E2T9ma@https://www.vier-tuerme-verlag.de/
DTSTAMP:20260419T161855Z
DESCRIPTION:BuchBesuch mit Dr. Bernd Deininger bei Buch und Kunst im Kloste
 rhof Münsterschwarzach.\nVom Christenfeind zum größten Verfechter: Der Apo
 stel Paulus. Zunächst als einer der härtesten Verfolger der neuen Religion
  bekannt\, bekennt er sich schließlich durch die Begegnung mit dem auferst
 andenen Christus dazu\, die Botschaft Jesu zu verbreiten und in seine Zeit
  hinein zu übersetzen. Denn schon für ihn bestand die Kunst darin\, diese 
 ursprüngliche Botschaft nicht zu verfälschen\, sie aber doch in einer Spra
 che zu verkünden\, die den Menschen seiner Zeit verständlich war. Wie aktu
 ell die Deutung ist\, die Paulus in seinen Briefen den verschiedenen chris
 tlichen Gemeinden immer wieder vor Augen hielt\, zeigen Anselm Grün und Be
 rnd Deininger eindrücklich in diesem Buch. Dabei betrachten sie die Texte 
 aus spirituellmystischer und aus tiefenpsychologischer Sicht – eine Kombin
 ation\, die den sinnstift enden Grund von Religion noch einmal ganz neu au
 fl euchten lässt.\nKontakt: Telefon: 09324/ 20 213 (auch via WhatsApp)E-Ma
 il: buchhandlung@vier-tuerme.de  Onlineshop: www.buchhandlung-muensterschw
 arzach.de\nEintritt: 7 Euro.\nVeranstaltungsortBuch und Kunst im Klosterho
 f\, Abtei Münsterschwarzach\, Schweinfurter Straße 40\, 97359 Münsterschwa
 rzach https://www.vier-tuerme-verlag.de/aktuelles/veranstaltungen/alle-ver
 anstaltungen/event/242-buchbesuch-mit-dr-bernd-deininger-glaube-und-vernun
 ft
DTSTART:20240221T183000Z
DTEND:20240221T203000Z
LOCATION:Buch und Kunst im Klosterhof\, Abtei Münsterschwarzach (Schweinfur
 ter Str. 40\, 97359 Münsterschwarzach)
SUMMARY:BuchBesuch mit Dr. Bernd Deininger 'Glaube und Vernunft' 
URL:https://www.vier-tuerme-verlag.de/aktuelles/veranstaltungen/alle-verans
 taltungen/event/242-buchbesuch-mit-dr-bernd-deininger-glaube-und-vernunft
END:VEVENT
END:VCALENDAR
